BEGIN:VCALENDAR
VERSION:2.0
PRODID:-//Mulam - ECPv6.15.13.1//NONSGML v1.0//EN
CALSCALE:GREGORIAN
METHOD:PUBLISH
X-WR-CALNAME:Mulam
X-ORIGINAL-URL:https://mulam.in
X-WR-CALDESC:Events for Mulam
REFRESH-INTERVAL;VALUE=DURATION:PT1H
X-Robots-Tag:noindex
X-PUBLISHED-TTL:PT1H
BEGIN:VTIMEZONE
TZID:UTC
BEGIN:STANDARD
TZOFFSETFROM:+0000
TZOFFSETTO:+0000
TZNAME:UTC
DTSTART:20250101T000000
END:STANDARD
END:VTIMEZONE
BEGIN:VEVENT
DTSTART;TZID=UTC:20260109T080000
DTEND;TZID=UTC:20260109T170000
DTSTAMP:20260419T182308
CREATED:20260109T050619Z
LAST-MODIFIED:20260109T050619Z
UID:13130-1767945600-1767978000@mulam.in
SUMMARY:Sankranti Special – Gomatha Puja -10 Jan-2026
DESCRIPTION:On the auspicious occasion of Makara Sankranti\, we cordially invite all devotees to participate in the sacred Gomatha Puja and seek the divine blessings of Gomatha (Divine Mother). \nThis puja symbolizes gratitude\, prosperity\, and spiritual well-being\, especially significant during the harvest festival of Sankranti. \n\n🕉️ Puja Details\n\nDate: 10 January 2026 (Saturday)\nTime: 10:30 AM – 11:00 AM\nVenue: Marri Krishna Hall\, Tarnaka Gate(Inside Entrance – Right Side)\n\n\n🌺 Invitation\nAll devotees are warmly invited to attend the Gomatha Puja and receive divine blessings for health\, happiness\, and prosperity. \n Contact\n\n63038 68045\n91829 84550\n\n\n Organizer\nCSR Memorial FoundationLove all\, serve all
URL:https://mulam.in/event/sankranti-special-gomatha-puja-10-jan-2026/
CATEGORIES:Activity,Festival and Festivities,Spiritual and Wellness
ATTACH;FMTTYPE=image/jpeg:https://mulam.in/wp-content/uploads/2026/01/DATE-Sankranthi-Festival-TIME-1030-AM-11-00AM-1.jpg
END:VEVENT
BEGIN:VEVENT
DTSTART;TZID=UTC:20260109T080000
DTEND;TZID=UTC:20260109T170000
DTSTAMP:20260419T182308
CREATED:20260109T090749Z
LAST-MODIFIED:20260109T090749Z
UID:13136-1767945600-1767978000@mulam.in
SUMMARY:Traditional Games Fest – MULAM KHEL-10-Jan-2026
DESCRIPTION:Celebrating India’s Timeless Play Culture\nDate: January 10\, 2025Day: FridayVenue: Marri Krishna Hall (Dining)\, TarnakaOrganized by: CSR Memorial Foundation🌐 Website: https://www.csrmemorialfoundation.org \n\nEvent Timings\n\nMorning Session: 11:00 AM – 1:00 PM\nEvening Session: 3:00 PM – 5:00 PM\n\n\nAbout MULAM KHEL\nMULAM KHEL – Traditional Indian Games is a joyful celebration of India’s rich heritage of play.This festival invites children\, youth\, adults\, and elders to reconnect with classic Indian games that promote skill\, strategy\, bonding\, and cultural pride.
URL:https://mulam.in/event/traditional-games-fest-mulam-khel-10-jan-2026/
CATEGORIES:Activity,Games
ATTACH;FMTTYPE=image/jpeg:https://mulam.in/wp-content/uploads/2026/01/MULAM-KHEL.jpg
END:VEVENT
BEGIN:VEVENT
DTSTART;TZID=UTC:20260110T090000
DTEND;TZID=UTC:20260110T130000
DTSTAMP:20260419T182308
CREATED:20260109T044347Z
LAST-MODIFIED:20260109T044714Z
UID:13121-1768035600-1768050000@mulam.in
SUMMARY:Makara Sankranti Special – Rangoli Competition 10-Jan -2026
DESCRIPTION:Makara Sankranti sandarbhamga CSR Memorial Foundation aayojinchina Rangoli Competition lo mee kala pratibhani pradarsinchandi. \n\n📌 Event Details\n\nDate: Saturday\, 10 January 2026\nTime: 9:00 AM – 12:30 PM\nVenue: Marri Krishna Hall (Mini Hall Front)\, Tarnaka\n\n\n🎨 Highlights\n\n✅ FREE ENTRY (No Registration Fee)\nRangoli kala pratibhaku avakasam\nWinners & Participants ki exciting prizes\nCertificates for participants\n\n\n📝 Registration\n\nRegistrations Open\nEntry completely FREE\n\n\n📞 Contact\n\n63038 68045\n91829 84550\n\n\n🏛 Organizer\nCSR Memorial FoundationLove all\, serve all
URL:https://mulam.in/event/makara-sankranti-special-rangoli-competition-10-jan-2026/
CATEGORIES:Activity,Environment,Festival and Festivities,Social Service and Causes
ATTACH;FMTTYPE=image/jpeg:https://mulam.in/wp-content/uploads/2026/01/Rangoli-Competition-2026.jpg
END:VEVENT
BEGIN:VEVENT
DTSTART;TZID=UTC:20260110T100000
DTEND;TZID=UTC:20260110T190000
DTSTAMP:20260419T182308
CREATED:20260109T043552Z
LAST-MODIFIED:20260109T095325Z
UID:13118-1768039200-1768071600@mulam.in
SUMMARY:Mulam Santha Sankranthi Special-10-Jan-2026
DESCRIPTION:Special Attractions | ప్రత్యేక ఆకర్షణలు  \n🐄 గోపూజ | Go Pooja \n🪁 గాలిపటాల పండుగ | Kite Festival \n🎨 రంగోలి పోటీ | Rangoli Competition \n🏏 సాంప్రదాయ ఆటలు  | Traditional Games (Mulam Khel) \n🍚 సంప్రదాయ పొంగలి వంటకాలు | Traditional Pongal Dishes \n🌾 మిల్లెట్ భోజనం | Millet Meals \n🍨 మిల్లెట్ ఐస్‌క్రీం | Millet Ice Cream \n\nCSR Memorial Foundation & గ్రామ భారతి సంయుక్త ఆధ్వర్యంలో\nOrganized by CSR Memorial Foundation & Grama Bharathi \n మన 19వ మూలం సంత | Our 19th Mulam Santha  \n తేదీ | Date: 10 January 2025 (రెండవ శనివారం | Second Saturday)\n స్థలం | Venue: మర్రి కృష్ణా హాల్\, తార్నాక | Marri Krishna Hall\, Tarnaka\n సమయం | Time: ఉదయం 10:00 నుండి సాయంత్రం 7:00 వరకు | 10:00 AM – 7:00 PM \n సంత ప్రత్యేకతలు | Highlights:\nరైతులు\, చేతివృత్తులవారు\, ఖాదీ వృత్తిదారులు\, మిల్లెట్ ఉత్పత్తిదారులు మరియు ప్రకృతి ప్రేమికులు —\nనేరుగా వినియోగదారులతో కలుసుకునే వేదిక. \nA unique platform where farmers\, artisans\, khadi workers\, millet producers\,\nand nature lovers connect directly with consumers. \n ఇతర ప్రత్యేకతలు | Products & Highlights:\n• బయో ఎన్జైమ్స్ | Bio-enzymes \n• గానుగ నూనెలు | Cold-pressed (Ganuga) oils \n• గోమయ & వేపపళ్ళ పొడి | Cow dung & neem powder \n• మట్టి పాత్రలు & ఆభరణాలు | Clay pots & jewelry \n• పంచగవ్య\, ఆయుర్వేద ఉత్పత్తులు | Panchagavya & Ayurvedic products \n• జ్యూట్ బ్యాగ్స్ | Jute bags \n• ఖాదీ / చేనేత వస్త్రాలు | Khadi / Handloom garments \n• దేశీ విత్తన భోజనం | Desi seed-based meals \n• మిల్లెట్ ఉత్పత్తులు | Millet products  \n మన మూలాలను మరింత బలపరుచుకుందాం! | Let’s strengthen our roots together!\nప్రకృతి ప్రేమికులు\, రైతులు\, వినియోగదారులు అందరూ తప్పక హాజరుకండి \nAll are warmly invited
URL:https://mulam.in/event/mulam-santha-sankranthi-special-10-jan-2026/
CATEGORIES:Activity,Environment,Farming,Festival and Festivities,Health,Social Service and Causes,Spiritual and Wellness
ATTACH;FMTTYPE=image/jpeg:https://mulam.in/wp-content/uploads/2026/01/Copy-of-Copy-of-Savvy-Mulam-Santha-English.jpg
END:VEVENT
BEGIN:VEVENT
DTSTART;TZID=UTC:20260110T150000
DTEND;TZID=UTC:20260110T170000
DTSTAMP:20260419T182308
CREATED:20260109T045446Z
LAST-MODIFIED:20260109T045446Z
UID:13127-1768057200-1768064400@mulam.in
SUMMARY:Kite Fest – Sankranti Special -10-Jan-2026
DESCRIPTION:Grand Kite Flying Contest\nCelebrate the spirit of Makara Sankranti with colors in the sky! Join us for an exciting Kite Flying Contest and let your kites dance with the winds of joy. \n\n📌 Event Details\n\nDate: 10 January 2026 (Saturday)\nTime: 3:00 PM – 5:00 PM\nVenue: Marri Krishna Hall\, Tarnaka(Conference Hall Front Area)\n\n\n🌟 Highlights\n\n🎉 Grand Kite Flying Contest\n🪁 Fun-filled Sankranti celebration\n👨‍👩‍👧‍👦 Open for all age groups\n✅ FREE Registration / Free Entry\n\n\n📝 Registration\nRegistration is completely FREE \n\n🎊 Tagline\n“Let your kites dance with the winds of joy!” \n Organizer\nCSR Memorial FoundationLove all\, serve all
URL:https://mulam.in/event/kite-fest-sankranti-special-10-jan-2026/
LOCATION:Marri Krishna Hall\, Tarnaka\, Hyderabad\, Marri Krishna Hall\, Tarnaka\, Hyderabad\, Hyderabad\, Telangana\, India
CATEGORIES:Activity,Environment,Festival and Festivities
ATTACH;FMTTYPE=image/jpeg:https://mulam.in/wp-content/uploads/2026/01/Kite-Fest-.jpg
END:VEVENT
END:VCALENDAR