BEGIN:VCALENDAR
VERSION:2.0
PRODID:-//Mulam - ECPv6.15.20//NONSGML v1.0//EN
CALSCALE:GREGORIAN
METHOD:PUBLISH
X-ORIGINAL-URL:https://mulam.in
X-WR-CALDESC:Events for Mulam
REFRESH-INTERVAL;VALUE=DURATION:PT1H
X-Robots-Tag:noindex
X-PUBLISHED-TTL:PT1H
BEGIN:VTIMEZONE
TZID:UTC
BEGIN:STANDARD
TZOFFSETFROM:+0000
TZOFFSETTO:+0000
TZNAME:UTC
DTSTART:20220101T000000
END:STANDARD
END:VTIMEZONE
BEGIN:VEVENT
DTSTART;TZID=UTC:20231111T150000
DTEND;TZID=UTC:20231111T190000
DTSTAMP:20260424T023927
CREATED:20231104T094412Z
LAST-MODIFIED:20231107T064616Z
UID:12418-1699714800-1699729200@mulam.in
SUMMARY:Traditional Games Fest
DESCRIPTION:We would like to invite you all\, with family and friends\, to the Traditional Games Fest we are organizing at the Marri Krishna Hall\, Tarnaka.  Here\, we want to invite our young heart Seniors and children to connect with each other and enjoy the nostalgia of Indian traditional games. Puli Meka\, Pachisi\, Vanna Guntalu\, Marbles\, Pittu\, Chess\, Carroms and many more …. \nTo know more
URL:https://mulam.in/event/traditional-games-fest-nov-11-2023/
LOCATION:Marri Krishna Hall\, Tarnaka\, Hyderabad\, Marri Krishna Hall\, Tarnaka\, Hyderabad\, Hyderabad\, Telangana\, India
CATEGORIES:Activity
ATTACH;FMTTYPE=image/jpeg:https://mulam.in/wp-content/uploads/2023/11/WhatsApp-Image-2023-11-07-at-11.41.52-1-1.jpeg
END:VEVENT
END:VCALENDAR