BEGIN:VCALENDAR
VERSION:2.0
PRODID:-//Mulam - ECPv6.15.13.1//NONSGML v1.0//EN
CALSCALE:GREGORIAN
METHOD:PUBLISH
X-WR-CALNAME:Mulam
X-ORIGINAL-URL:https://mulam.in
X-WR-CALDESC:Events for Mulam
REFRESH-INTERVAL;VALUE=DURATION:PT1H
X-Robots-Tag:noindex
X-PUBLISHED-TTL:PT1H
BEGIN:VTIMEZONE
TZID:UTC
BEGIN:STANDARD
TZOFFSETFROM:+0000
TZOFFSETTO:+0000
TZNAME:UTC
DTSTART:20210101T000000
END:STANDARD
END:VTIMEZONE
BEGIN:VEVENT
DTSTART;VALUE=DATE:20221022
DTEND;VALUE=DATE:20221023
DTSTAMP:20260420T002720
CREATED:20221017T110332Z
LAST-MODIFIED:20221017T113411Z
UID:6618-1666396800-1666483199@mulam.in
SUMMARY:Life with Nature
DESCRIPTION:Life with Nature\n  \n \nIntroduction.\nFacilitated by\nShailender\,\nfrom SarvamMayee\, Hyderabad.\nNaturalist and Holistic Health Practitioner. \n22nd Oct 2022\, 10-5pm.\nWith Potluck. \nIn the modern times\, though we have advanced in various fields\, yet we are not able to handle even small things related to health\, we are just trying to manage which is manifesting into another forms\, but not completely eradicated. No animals have any hospitals\, except the domesticated ones and we humans. And there is lot of Information overload and we get confused what to follow. Lets connect to our own self and try to understand with our common sense\, what is reason behind all these ill-health and come to an understanding of reversing them. \nAddress:\n240\, Road No. 36 Jubilee Hills\, Hyderabad\, India
URL:https://mulam.in/event/life-with-nature/
LOCATION:240\, Road No. 36 Jubilee Hills\, Hyderabad\, India\, 240\, Road No. 36 Jubilee Hills\, Hyderabad\, India\, Hyderabad\, India
CATEGORIES:Health
ATTACH;FMTTYPE=image/jpeg:https://mulam.in/wp-content/uploads/2022/10/My-project.jpg
ORGANIZER;CN="Mulam":MAILTO:connect@mulam.in
END:VEVENT
END:VCALENDAR