BEGIN:VCALENDAR
VERSION:2.0
PRODID:-//Mulam - ECPv6.15.13.1//NONSGML v1.0//EN
CALSCALE:GREGORIAN
METHOD:PUBLISH
X-ORIGINAL-URL:https://mulam.in
X-WR-CALDESC:Events for Mulam
REFRESH-INTERVAL;VALUE=DURATION:PT1H
X-Robots-Tag:noindex
X-PUBLISHED-TTL:PT1H
BEGIN:VTIMEZONE
TZID:UTC
BEGIN:STANDARD
TZOFFSETFROM:+0000
TZOFFSETTO:+0000
TZNAME:UTC
DTSTART:20240101T000000
END:STANDARD
END:VTIMEZONE
BEGIN:VEVENT
DTSTART;TZID=UTC:20250412T140000
DTEND;TZID=UTC:20250420T173000
DTSTAMP:20260420T083359
CREATED:20250326T055950Z
LAST-MODIFIED:20250326T060201Z
UID:12835-1744466400-1745170200@mulam.in
SUMMARY:PERMACULTURE & BEYOND - 2025
DESCRIPTION:PERMACULTURE & BEYOND \nA 9-DAY Residential Permaculture Program \nRegister Now – aolic.org/0249 \n12th to 20th Apr 2025 \nArt of Living International Center\, Bangalore
URL:https://mulam.in/event/permaculture-beyond-2025/
LOCATION:Art of Living International Center\, Bangalore\, Art of Living International Center\, Bangalore\, Bangalore\, 560 082\, India
CATEGORIES:Activity,Festival and Festivities,workshop
ATTACH;FMTTYPE=image/jpeg:https://mulam.in/wp-content/uploads/2025/03/WhatsApp-Image-2025-03-26-at-7.52.15-AM.jpeg
END:VEVENT
END:VCALENDAR