BEGIN:VCALENDAR
VERSION:2.0
PRODID:-//Mulam - ECPv6.15.13.1//NONSGML v1.0//EN
CALSCALE:GREGORIAN
METHOD:PUBLISH
X-ORIGINAL-URL:https://mulam.in
X-WR-CALDESC:Events for Mulam
REFRESH-INTERVAL;VALUE=DURATION:PT1H
X-Robots-Tag:noindex
X-PUBLISHED-TTL:PT1H
BEGIN:VTIMEZONE
TZID:UTC
BEGIN:STANDARD
TZOFFSETFROM:+0000
TZOFFSETTO:+0000
TZNAME:UTC
DTSTART:20210101T000000
END:STANDARD
END:VTIMEZONE
BEGIN:VEVENT
DTSTART;TZID=UTC:20241223T120000
DTEND;TZID=UTC:20241223T140000
DTSTAMP:20260423T161826
CREATED:20241224T103110Z
LAST-MODIFIED:20241224T103110Z
UID:12767-1734955200-1734962400@mulam.in
SUMMARY:Jai Kisan-2024
DESCRIPTION:On Monday\, 23rd December 2024\, from 12 PM to 2 PM\, the event Jai Kisan will take place to honor farmer families\, the backbone of the essential food we eat. This recognition celebrates their hard work and indispensable contribution to society. \n\n\n\nFor more details: Seva Mala – 2024
URL:https://mulam.in/event/jai-kisan-23-dec-2024/
LOCATION:Dr. Marri Chenna Reddy Memorial Rock Garden\, Beside Indira Park\, Hyderabad
CATEGORIES:Environment,Farming
ATTACH;FMTTYPE=image/jpeg:https://mulam.in/wp-content/uploads/2024/12/Jai-Kisan.jpg
END:VEVENT
BEGIN:VEVENT
DTSTART;TZID=UTC:20241222T180000
DTEND;TZID=UTC:20241222T200000
DTSTAMP:20260423T161826
CREATED:20241224T102254Z
LAST-MODIFIED:20241224T102434Z
UID:12759-1734890400-1734897600@mulam.in
SUMMARY:Mitti – Back To The Roots – Movie-2024
DESCRIPTION:On 22nd December 2024\, from 6 PM to 8 PM\, the feature film Mitti – Back to the Roots will be screened. This socially impactful movie focuses on agriculture and farmers\, raising awareness about their challenges and the importance of reconnecting with our roots. \nFor more details: Seva Mala – 2024
URL:https://mulam.in/event/mitti-back-to-the-roots-movie-22-dec-2024/
LOCATION:Dr. Marri Chenna Reddy Memorial Rock Garden\, Beside Indira Park\, Hyderabad
CATEGORIES:Environment,Farming
ATTACH;FMTTYPE=image/jpeg:https://mulam.in/wp-content/uploads/2024/12/Mitti-Back-to-the-Roots-Movie-1.jpg
END:VEVENT
BEGIN:VEVENT
DTSTART;TZID=UTC:20241116T090000
DTEND;TZID=UTC:20241116T190000
DTSTAMP:20260423T161826
CREATED:20241112T054756Z
LAST-MODIFIED:20241112T055854Z
UID:12684-1731747600-1731783600@mulam.in
SUMMARY:Mulam Santha 16-Nov-2024
DESCRIPTION:5th Mulam Santa \nUnder the joint auspices of Gram Bharti and CSR Memorial Foundation\, a  Moola Sant has successfully completed four months—thanks to your support! Now\, as we move into the fifth month\, we continue our mission to bring good food and good health to you and your family. \nMoola Sant serves as a unique marketplace\, offering farmers\, artisans\, agricultural producers\, small millet-based businesses\, and khadi and nature enthusiasts a platform to connect directly with consumers. Here\, visitors can also find seeds\, small tools\, and plants to support sustainable farming practices. \nEvent Details: \n\nDate: 16th November 2024\nVenue: Marri Krishna Hall\, Tarnaka\nTime: 9 AM to 7 PM\nLocation Map: Click here\n\nSpecial Attractions: \n\nDesi Rice Festival\nMillet Pizza\nMillet Murukulu\n\nMedia Partner: Back to Roots YouTube Channel \nBring your family and help make this event a success! \nFor Stall Applications:\nTo reserve a stall\, a nominal fee of Rs 500 covers essentials like tables\, chairs\, cleaning\, and electricity.\nContact: Call +91 94908 50766 or 6305-182620 to apply in advance and receive approval from Gram Bharati\, Telangana
URL:https://mulam.in/event/mulam-santha-16-nov-2024/
CATEGORIES:Activity,Farming,Festival and Festivities,Health,Social Service and Causes
ATTACH;FMTTYPE=image/jpeg:https://mulam.in/wp-content/uploads/2024/11/mulam.jpg
END:VEVENT
BEGIN:VEVENT
DTSTART;TZID=UTC:20241019T090000
DTEND;TZID=UTC:20241019T210000
DTSTAMP:20260423T161826
CREATED:20241017T112013Z
LAST-MODIFIED:20241017T112013Z
UID:12680-1729328400-1729371600@mulam.in
SUMMARY:Mulam Santha 19-Oct-2024
DESCRIPTION:* 🌱🌾🍚🍛🍦* ” 4th Mulam Santa” ” 🪴🌽 🐝🍆🍅 * \nUnder the joint auspices of Gram Bharti and CSR Memorial Foundation\, with best wishes for Dussehra and Diwali\, with all your kind wishes\, Moola Sant has successfully completed three months and is moving forward to provide good food and good health to you and your family in the fourth month as well. \nThis market is a unique platform for farmers\, artisans\, agricultural value addition\, millets (millets) small producers\, khadi\, nature lovers to sell their products directly to consumers. Also the opportunity for farmers to buy seeds\, small tools and plants \nDate : 19 October 2024\nVenue: Marri Krishna Hall\, Tarnaka\nTime: 9:00 AM to 9:00 PM \nLocation map: https://maps.app.goo.gl/pVqLwt4SjwDvGkuWA?g_st=ic \nSpecial attractions:\n– Neem teeth are dry\n– Panchagavya \, Ayurvedic herbs\, items\n– Earthen vessels\n– Gomaya products\n– Khadi / Handloom Sarees\, Garments\n– Free Davachai for all\n– Healthy cow-based meals\n– Prakriti\, Padi\, Literature\, Ayurveda\, Panchagavya\, Caste Professions\, Handicrafts * Cereals (Milets)\nMedia partner: Back to roots YouTube channel \nCome as a family and make the program a success again \nThose who want a stall can book a stall by paying just Rs 500 for arrangements like table\, chairs\, cleaning and electricity. Contact Numbers for Stall Registration : Mallesham Bommakanti CELL : 9490850766 Padala Rajamouli CELL : 6305182620
URL:https://mulam.in/event/mulam-santha-19-oct-2024/
CATEGORIES:Activity,Farming,Festival and Festivities,Health,Social Service and Causes,Spiritual and Wellness,workshop
ATTACH;FMTTYPE=image/jpeg:https://mulam.in/wp-content/uploads/2024/10/WhatsApp-Image-2024-10-17-at-11.41.56-AM-1.jpeg
END:VEVENT
BEGIN:VEVENT
DTSTART;TZID=UTC:20240316T100000
DTEND;TZID=UTC:20240317T170000
DTSTAMP:20260423T161826
CREATED:20240111T112917Z
LAST-MODIFIED:20240111T112917Z
UID:12505-1710583200-1710694800@mulam.in
SUMMARY:Kisan Expo 2024
DESCRIPTION:
URL:https://mulam.in/event/kisan-expo-2024/
CATEGORIES:Farming
END:VEVENT
BEGIN:VEVENT
DTSTART;TZID=UTC:20231210T090000
DTEND;TZID=UTC:20231210T130000
DTSTAMP:20260423T161826
CREATED:20231209T042615Z
LAST-MODIFIED:20231209T044437Z
UID:12448-1702198800-1702213200@mulam.in
SUMMARY:Climate Change (COP3-CC)
DESCRIPTION:Climate change refers to significant and lasting changes in weather patterns and global temperatures over an extended period. It’s largely driven by human activities that release greenhouse gases\, such as carbon dioxide (CO2)\, methane\, and nitrous oxide\, into the atmosphere\, trapping heat and leading to a warming effect known as the greenhouse effect. \nTo know more
URL:https://mulam.in/event/climate-change-cop3-cc-dec-10-2023/
LOCATION:Kundurpi\, Anantapur District\, Andhra Pradesh\, Kundurpi\, Anantapur District\, Andhra Pradesh\, Kundurpi\, Andhra Pradesh\, India
CATEGORIES:Farming
ATTACH;FMTTYPE=image/jpeg:https://mulam.in/wp-content/uploads/2023/12/GREEN-REVOLUTION-1.jpg
END:VEVENT
BEGIN:VEVENT
DTSTART;TZID=UTC:20230311T070000
DTEND;TZID=UTC:20230311T103000
DTSTAMP:20260423T161826
CREATED:20230309T121046Z
LAST-MODIFIED:20230309T122001Z
UID:9930-1678518000-1678530600@mulam.in
SUMMARY:Date with a Tree
DESCRIPTION:
URL:https://mulam.in/event/date-with-a-tree/
LOCATION:OU Forest\, Hyderabad\, Hyderabad\, Telangana\, India
CATEGORIES:Farming
ATTACH;FMTTYPE=image/jpeg:https://mulam.in/wp-content/uploads/2023/03/Untitled-design-2023-03-09T174536.494.jpg
END:VEVENT
BEGIN:VEVENT
DTSTART;TZID=UTC:20230216T110000
DTEND;TZID=UTC:20230227T170000
DTSTAMP:20260423T161826
CREATED:20230211T071818Z
LAST-MODIFIED:20230213T070634Z
UID:9593-1676545200-1677517200@mulam.in
SUMMARY:Aadi Mahotsav
DESCRIPTION:
URL:https://mulam.in/event/aadi-mahotsav/
LOCATION:Major Dhyan Chand National Stadium India Gate\, Major Dhyan Chand National Stadium India Gate\, Hyderabad\, India
CATEGORIES:Farming
ATTACH;FMTTYPE=image/jpeg:https://mulam.in/wp-content/uploads/2023/02/Untitled-design-2023-02-13T122811.126-1.jpg
END:VEVENT
BEGIN:VEVENT
DTSTART;TZID=UTC:20221126T110000
DTEND;TZID=UTC:20221127T140000
DTSTAMP:20260423T161826
CREATED:20221124T070447Z
LAST-MODIFIED:20221124T084732Z
UID:8245-1669460400-1669557600@mulam.in
SUMMARY:Growing Rose and Other Flowering Plants
DESCRIPTION:2 Days Training Classes on Growing Rose and Other Flowering Plants \nIn an attempt to bring experts\, environmental enthusiasts\, and plant-lovers together\, the Agri-Horticultural Society\, Public Gardens\, has created several new initiatives to open its green arena for the public. \nFrom: 26-11-2022 to 27-11-2022 Time: 11am to 2pm \nOrganised By: Agri-Horticultural Society \n  \n  \n  \n  \n 
URL:https://mulam.in/event/growing-rose-and-other-flowering-plants/
LOCATION:Hyderabad\, Seminar Hall\,Osmania university\, Hyderabad
CATEGORIES:Farming
ATTACH;FMTTYPE=image/png:https://mulam.in/wp-content/uploads/2022/11/Untitled-design-82-e1669272675923.png
END:VEVENT
BEGIN:VEVENT
DTSTART;TZID=UTC:20221126T100000
DTEND;TZID=UTC:20221127T170000
DTSTAMP:20260423T161826
CREATED:20221125T101249Z
LAST-MODIFIED:20221125T101437Z
UID:8281-1669456800-1669568400@mulam.in
SUMMARY:Introduction to Permaculture & Fermented Drinks
DESCRIPTION:Aranya Agricultural Alternatives Permaculture India – Forest Farming \n“ARANYA” aims to provide alternatives to conventional and chemical agricultural practices. Since forests are the mother of agriculture\, ARANYA is committed to following the philosophy of natural agricultural practices with a focus on forest farming to take up production without destroying planet earth and enable all life forms to live in harmony. \nIntroduction to Permaculture & Fermented Drinks \nWith Narsanna Keppula & Team \nFor More Details: 9030613344/ 9959865404 \n 
URL:https://mulam.in/event/introduction-to-permaculture-fermented-drinks/
LOCATION:Marredpally\, Secunderabad\, Marredpally
CATEGORIES:Farming
ATTACH;FMTTYPE=image/png:https://mulam.in/wp-content/uploads/2022/11/Untitled-design-85.png
END:VEVENT
BEGIN:VEVENT
DTSTART;TZID=UTC:20221126T060000
DTEND;TZID=UTC:20221126T170000
DTSTAMP:20260423T161826
CREATED:20221125T111903Z
LAST-MODIFIED:20221125T112225Z
UID:8287-1669442400-1669482000@mulam.in
SUMMARY:Under The Banyan Tree
DESCRIPTION:Under The Banyan Tree \n*Under The Banyan Tree* A voluntary effort towards saving the beautiful Banyan trees of Chevella . \nInviting all Photographers\, artists to participate and create awareness about the Banyan Trees through their photographs and art works. \nAs a part of this initiative\, We will also be conducting a macro photo walk at the location in Chevella. \nYour best works could be displayed at Hyderabad literacy festival and later at Icon art gallery. \n 
URL:https://mulam.in/event/under-the-banyan-tree/
LOCATION:Mrugavani National Park\, Mrugavani National Park
CATEGORIES:Farming
ATTACH;FMTTYPE=image/png:https://mulam.in/wp-content/uploads/2022/11/Untitled-design-87-6-e1669375329282.png
END:VEVENT
END:VCALENDAR