BEGIN:VCALENDAR
VERSION:2.0
PRODID:-//Mulam - ECPv6.15.20//NONSGML v1.0//EN
CALSCALE:GREGORIAN
METHOD:PUBLISH
X-ORIGINAL-URL:https://mulam.in
X-WR-CALDESC:Events for Mulam
REFRESH-INTERVAL;VALUE=DURATION:PT1H
X-Robots-Tag:noindex
X-PUBLISHED-TTL:PT1H
BEGIN:VTIMEZONE
TZID:UTC
BEGIN:STANDARD
TZOFFSETFROM:+0000
TZOFFSETTO:+0000
TZNAME:UTC
DTSTART:20220101T000000
END:STANDARD
END:VTIMEZONE
BEGIN:VEVENT
DTSTART;TZID=UTC:20231224T090000
DTEND;TZID=UTC:20231224T160000
DTSTAMP:20260424T023956
CREATED:20231207T063153Z
LAST-MODIFIED:20231207T064959Z
UID:12442-1703408400-1703433600@mulam.in
SUMMARY:National Farmers Day Painting Event
DESCRIPTION:National Farmers Day Painting Event \nFor the past several years\, on the occasion of Farmers Day\, we have been organizing a Painting Event to support farmers.\nHere 20+ professional painters will paint in support of farming and farmers. These paintings would be auctioned to support farmer families. \nCell – 6303868045.\nRegistration Link.\nhttps://bit.ly/3T9pmhd
URL:https://mulam.in/event/farmers-day-painting-event-2023/
LOCATION:240\, Road No. 36 Jubilee Hills\, Hyderabad\, India\, 240\, Road No. 36 Jubilee Hills\, Hyderabad\, India\, Hyderabad\, India
CATEGORIES:Activity
ATTACH;FMTTYPE=image/png:https://mulam.in/wp-content/uploads/2023/12/National-Farmers-Day10.png
ORGANIZER;CN="Mulam":MAILTO:connect@mulam.in
END:VEVENT
END:VCALENDAR